BEGIN:VCALENDAR
VERSION:2.0
PRODID:icalendar-ruby
CALSCALE:GREGORIAN
METHOD:PUBLISH
BEGIN:VEVENT
DTSTAMP:20260419T145641Z
UID:221-1934554@southsidebaptistrh.org
DTSTART:20260520T224500Z
DTEND:20260521T001000Z
CLASS:PUBLIC
CREATED:20260417T112344
DESCRIPTION:
LAST-MODIFIED:20260417T112344
LOCATION:
SUMMARY:End of Spring Semester
URL;VALUE=URI:https://www.southsidebaptistrh.org/events/end-of-spring-semes
 ter/2026-05-20
ATTACH;FILENAME=2026-end-of-semester.png;FMTTYPE=image/png:https://dq5pwpg1
 q8ru0.cloudfront.net/2026/04/17/15/23/44/04bbe3d7-710c-4007-ac67-2a9e07351
 544/2026-end-of-semester.png
END:VEVENT
END:VCALENDAR
