BEGIN:VCALENDAR
VERSION:2.0
PRODID:icalendar-ruby
CALSCALE:GREGORIAN
METHOD:PUBLISH
BEGIN:VEVENT
DTSTAMP:20260424T003829Z
UID:5-1980644@southsidebaptistrh.org
DTSTART:20231203T160000Z
DTEND:20231203T170000Z
CLASS:PUBLIC
CREATED:20260423T190356
DESCRIPTION:Sunday Worship
LAST-MODIFIED:20260423T190356
LOCATION:Southside Baptist Church
SUMMARY:Sunday Morning Service
URL;VALUE=URI:https://www.southsidebaptistrh.org/events/sunday-morning-serv
 ice/2023-12-03
END:VEVENT
END:VCALENDAR
