BEGIN:VCALENDAR
VERSION:2.0
PRODID:icalendar-ruby
CALSCALE:GREGORIAN
METHOD:PUBLISH
BEGIN:VEVENT
DTSTAMP:20260424T074940Z
UID:5-1981858@southsidebaptistrh.org
DTSTART:20231231T160000Z
DTEND:20231231T170000Z
CLASS:PUBLIC
CREATED:20260423T215713
DESCRIPTION:Sunday Worship
LAST-MODIFIED:20260423T215713
LOCATION:Southside Baptist Church
SUMMARY:Sunday Morning Service
URL;VALUE=URI:https://www.southsidebaptistrh.org/events/sunday-morning-serv
 ice/2023-12-31
END:VEVENT
END:VCALENDAR
