BEGIN:VCALENDAR
VERSION:2.0
PRODID:icalendar-ruby
CALSCALE:GREGORIAN
METHOD:PUBLISH
BEGIN:VEVENT
DTSTAMP:20260424T110749Z
UID:5-1981860@southsidebaptistrh.org
DTSTART:20240114T160000Z
DTEND:20240114T170000Z
CLASS:PUBLIC
CREATED:20260423T215713
DESCRIPTION:Sunday Worship
LAST-MODIFIED:20260423T215713
LOCATION:Southside Baptist Church
SUMMARY:Sunday Morning Service
URL;VALUE=URI:https://www.southsidebaptistrh.org/events/sunday-morning-serv
 ice/2024-01-14
END:VEVENT
END:VCALENDAR
