BEGIN:VCALENDAR
VERSION:2.0
PRODID:icalendar-ruby
CALSCALE:GREGORIAN
METHOD:PUBLISH
BEGIN:VEVENT
DTSTAMP:20260424T152707Z
UID:5-1984282@southsidebaptistrh.org
DTSTART:20240128T160000Z
DTEND:20240128T170000Z
CLASS:PUBLIC
CREATED:20260424T101932
DESCRIPTION:Sunday Worship
LAST-MODIFIED:20260424T101932
LOCATION:Southside Baptist Church
SUMMARY:Sunday Morning Service
URL;VALUE=URI:https://www.southsidebaptistrh.org/events/sunday-morning-serv
 ice/2024-01-28
END:VEVENT
END:VCALENDAR
