BEGIN:VCALENDAR
VERSION:2.0
PRODID:icalendar-ruby
CALSCALE:GREGORIAN
METHOD:PUBLISH
BEGIN:VEVENT
DTSTAMP:20260424T191740Z
UID:5-1985494@southsidebaptistrh.org
DTSTART:20240211T160000Z
DTEND:20240211T170000Z
CLASS:PUBLIC
CREATED:20260424T130801
DESCRIPTION:Sunday Worship
LAST-MODIFIED:20260424T130801
LOCATION:Southside Baptist Church
SUMMARY:Sunday Morning Service
URL;VALUE=URI:https://www.southsidebaptistrh.org/events/sunday-morning-serv
 ice/2024-02-11
END:VEVENT
END:VCALENDAR
