BEGIN:VCALENDAR
VERSION:2.0
PRODID:icalendar-ruby
CALSCALE:GREGORIAN
METHOD:PUBLISH
BEGIN:VEVENT
DTSTAMP:20260424T205522Z
UID:5-1986705@southsidebaptistrh.org
DTSTART:20240218T160000Z
DTEND:20240218T170000Z
CLASS:PUBLIC
CREATED:20260424T155445
DESCRIPTION:Sunday Worship
LAST-MODIFIED:20260424T155445
LOCATION:Southside Baptist Church
SUMMARY:Sunday Morning Service
URL;VALUE=URI:https://www.southsidebaptistrh.org/events/sunday-morning-serv
 ice/2024-02-18
END:VEVENT
END:VCALENDAR
