BEGIN:VCALENDAR
VERSION:2.0
PRODID:icalendar-ruby
CALSCALE:GREGORIAN
METHOD:PUBLISH
BEGIN:VEVENT
DTSTAMP:20260424T224311Z
UID:5-1987916@southsidebaptistrh.org
DTSTART:20240225T160000Z
DTEND:20240225T170000Z
CLASS:PUBLIC
CREATED:20260424T184233
DESCRIPTION:Sunday Worship
LAST-MODIFIED:20260424T184233
LOCATION:Southside Baptist Church
SUMMARY:Sunday Morning Service
URL;VALUE=URI:https://www.southsidebaptistrh.org/events/sunday-morning-serv
 ice/2024-02-25
END:VEVENT
END:VCALENDAR
