BEGIN:VCALENDAR
VERSION:2.0
PRODID:icalendar-ruby
CALSCALE:GREGORIAN
METHOD:PUBLISH
BEGIN:VEVENT
DTSTAMP:20260425T115649Z
UID:5-1990343@southsidebaptistrh.org
DTSTART:20240414T150000Z
DTEND:20240414T160000Z
CLASS:PUBLIC
CREATED:20260425T071829
DESCRIPTION:Sunday Worship
LAST-MODIFIED:20260425T071829
LOCATION:Southside Baptist Church
SUMMARY:Sunday Morning Service
URL;VALUE=URI:https://www.southsidebaptistrh.org/events/sunday-morning-serv
 ice/2024-04-14
END:VEVENT
END:VCALENDAR
