BEGIN:VCALENDAR
VERSION:2.0
PRODID:icalendar-ruby
CALSCALE:GREGORIAN
METHOD:PUBLISH
BEGIN:VEVENT
DTSTAMP:20260425T140232Z
UID:5-1991554@southsidebaptistrh.org
DTSTART:20240421T150000Z
DTEND:20240421T160000Z
CLASS:PUBLIC
CREATED:20260425T095947
DESCRIPTION:Sunday Worship
LAST-MODIFIED:20260425T095947
LOCATION:Southside Baptist Church
SUMMARY:Sunday Morning Service
URL;VALUE=URI:https://www.southsidebaptistrh.org/events/sunday-morning-serv
 ice/2024-04-21
END:VEVENT
END:VCALENDAR
