BEGIN:VCALENDAR
VERSION:2.0
PRODID:icalendar-ruby
CALSCALE:GREGORIAN
METHOD:PUBLISH
BEGIN:VEVENT
DTSTAMP:20260425T160748Z
UID:5-1991555@southsidebaptistrh.org
DTSTART:20240428T150000Z
DTEND:20240428T160000Z
CLASS:PUBLIC
CREATED:20260425T095947
DESCRIPTION:Sunday Worship
LAST-MODIFIED:20260425T095947
LOCATION:Southside Baptist Church
SUMMARY:Sunday Morning Service
URL;VALUE=URI:https://www.southsidebaptistrh.org/events/sunday-morning-serv
 ice/2024-04-28
END:VEVENT
END:VCALENDAR
