BEGIN:VCALENDAR
VERSION:2.0
PRODID:icalendar-ruby
CALSCALE:GREGORIAN
METHOD:PUBLISH
BEGIN:VEVENT
DTSTAMP:20260425T175305Z
UID:5-1992766@southsidebaptistrh.org
DTSTART:20240505T150000Z
DTEND:20240505T160000Z
CLASS:PUBLIC
CREATED:20260425T124014
DESCRIPTION:Sunday Worship
LAST-MODIFIED:20260425T124014
LOCATION:Southside Baptist Church
SUMMARY:Sunday Morning Service
URL;VALUE=URI:https://www.southsidebaptistrh.org/events/sunday-morning-serv
 ice/2024-05-05
END:VEVENT
END:VCALENDAR
