BEGIN:VCALENDAR
VERSION:2.0
PRODID:icalendar-ruby
CALSCALE:GREGORIAN
METHOD:PUBLISH
BEGIN:VEVENT
DTSTAMP:20260425T214727Z
UID:5-1993978@southsidebaptistrh.org
DTSTART:20240519T150000Z
DTEND:20240519T160000Z
CLASS:PUBLIC
CREATED:20260425T152050
DESCRIPTION:Sunday Worship
LAST-MODIFIED:20260425T152050
LOCATION:Southside Baptist Church
SUMMARY:Sunday Morning Service
URL;VALUE=URI:https://www.southsidebaptistrh.org/events/sunday-morning-serv
 ice/2024-05-19
END:VEVENT
END:VCALENDAR
