BEGIN:VCALENDAR
VERSION:2.0
PRODID:icalendar-ruby
CALSCALE:GREGORIAN
METHOD:PUBLISH
BEGIN:VEVENT
DTSTAMP:20260425T233349Z
UID:5-1995189@southsidebaptistrh.org
DTSTART:20240526T150000Z
DTEND:20240526T160000Z
CLASS:PUBLIC
CREATED:20260425T180306
DESCRIPTION:Sunday Worship
LAST-MODIFIED:20260425T180306
LOCATION:Southside Baptist Church
SUMMARY:Sunday Morning Service
URL;VALUE=URI:https://www.southsidebaptistrh.org/events/sunday-morning-serv
 ice/2024-05-26
END:VEVENT
END:VCALENDAR
