BEGIN:VCALENDAR
VERSION:2.0
PRODID:icalendar-ruby
CALSCALE:GREGORIAN
METHOD:PUBLISH
BEGIN:VEVENT
DTSTAMP:20260426T032010Z
UID:5-1996401@southsidebaptistrh.org
DTSTART:20240609T150000Z
DTEND:20240609T160000Z
CLASS:PUBLIC
CREATED:20260425T204600
DESCRIPTION:Sunday Worship
LAST-MODIFIED:20260425T204600
LOCATION:Southside Baptist Church
SUMMARY:Sunday Morning Service
URL;VALUE=URI:https://www.southsidebaptistrh.org/events/sunday-morning-serv
 ice/2024-06-09
END:VEVENT
END:VCALENDAR
